BEGIN:VCALENDAR
VERSION:2.0
PRODID:-//Berean Bible Church - ECPv6.15.20//NONSGML v1.0//EN
CALSCALE:GREGORIAN
METHOD:PUBLISH
X-ORIGINAL-URL:https://bereanbiblechurch.com
X-WR-CALDESC:Events for Berean Bible Church
REFRESH-INTERVAL;VALUE=DURATION:PT1H
X-Robots-Tag:noindex
X-PUBLISHED-TTL:PT1H
BEGIN:VTIMEZONE
TZID:America/Chicago
BEGIN:DAYLIGHT
TZOFFSETFROM:-0600
TZOFFSETTO:-0500
TZNAME:CDT
DTSTART:20250309T080000
END:DAYLIGHT
BEGIN:STANDARD
TZOFFSETFROM:-0500
TZOFFSETTO:-0600
TZNAME:CST
DTSTART:20251102T070000
END:STANDARD
BEGIN:DAYLIGHT
TZOFFSETFROM:-0600
TZOFFSETTO:-0500
TZNAME:CDT
DTSTART:20260308T080000
END:DAYLIGHT
BEGIN:STANDARD
TZOFFSETFROM:-0500
TZOFFSETTO:-0600
TZNAME:CST
DTSTART:20261101T070000
END:STANDARD
BEGIN:DAYLIGHT
TZOFFSETFROM:-0600
TZOFFSETTO:-0500
TZNAME:CDT
DTSTART:20270314T080000
END:DAYLIGHT
BEGIN:STANDARD
TZOFFSETFROM:-0500
TZOFFSETTO:-0600
TZNAME:CST
DTSTART:20271107T070000
END:STANDARD
END:VTIMEZONE
BEGIN:VEVENT
DTSTART;TZID=America/Chicago:20261018T100000
DTEND;TZID=America/Chicago:20261018T105000
DTSTAMP:20260421T165351
CREATED:20231130T164943Z
LAST-MODIFIED:20231211T194849Z
UID:10000685-1792317600-1792320600@bereanbiblechurch.com
SUMMARY:Sunday Bible Hour
DESCRIPTION:Interactive Bible study for all ages
URL:https://bereanbiblechurch.com/event/bible-hour-3/2026-10-18/
LOCATION:Berean Bible Church\, 301 W. Grand Ave.\, Chippewa Falls\, WI\, 54729\, United States
GEO:44.9342363;-91.3972269
X-APPLE-STRUCTURED-LOCATION;VALUE=URI;X-ADDRESS=Berean Bible Church 301 W. Grand Ave. Chippewa Falls WI 54729 United States;X-APPLE-RADIUS=500;X-TITLE=301 W. Grand Ave.:geo:-91.3972269,44.9342363
END:VEVENT
BEGIN:VEVENT
DTSTART;TZID=America/Chicago:20261018T110000
DTEND;TZID=America/Chicago:20261018T120000
DTSTAMP:20260421T165351
CREATED:20231130T165512Z
LAST-MODIFIED:20231211T194556Z
UID:10000163-1792321200-1792324800@bereanbiblechurch.com
SUMMARY:Sunday Worship Service
DESCRIPTION:
URL:https://bereanbiblechurch.com/event/worship-service-5/2026-10-18/
LOCATION:Berean Bible Church\, 301 W. Grand Ave.\, Chippewa Falls\, WI\, 54729\, United States
GEO:44.9342363;-91.3972269
X-APPLE-STRUCTURED-LOCATION;VALUE=URI;X-ADDRESS=Berean Bible Church 301 W. Grand Ave. Chippewa Falls WI 54729 United States;X-APPLE-RADIUS=500;X-TITLE=301 W. Grand Ave.:geo:-91.3972269,44.9342363
END:VEVENT
BEGIN:VEVENT
DTSTART;TZID=America/Chicago:20261018T121000
DTEND;TZID=America/Chicago:20261018T133000
DTSTAMP:20260421T165351
CREATED:20231130T165629Z
LAST-MODIFIED:20231211T195256Z
UID:10000831-1792325400-1792330200@bereanbiblechurch.com
SUMMARY:Monthly Fellowship Dinner
DESCRIPTION:
URL:https://bereanbiblechurch.com/event/fellowship-dinner/2026-10-18/
LOCATION:Berean Bible Church\, 301 W. Grand Ave.\, Chippewa Falls\, WI\, 54729\, United States
GEO:44.9342363;-91.3972269
X-APPLE-STRUCTURED-LOCATION;VALUE=URI;X-ADDRESS=Berean Bible Church 301 W. Grand Ave. Chippewa Falls WI 54729 United States;X-APPLE-RADIUS=500;X-TITLE=301 W. Grand Ave.:geo:-91.3972269,44.9342363
END:VEVENT
END:VCALENDAR