BEGIN:VCALENDAR
VERSION:2.0
PRODID:-//Berean Bible Church - ECPv6.15.20//NONSGML v1.0//EN
CALSCALE:GREGORIAN
METHOD:PUBLISH
X-ORIGINAL-URL:https://bereanbiblechurch.com
X-WR-CALDESC:Events for Berean Bible Church
REFRESH-INTERVAL;VALUE=DURATION:PT1H
X-Robots-Tag:noindex
X-PUBLISHED-TTL:PT1H
BEGIN:VTIMEZONE
TZID:America/Chicago
BEGIN:DAYLIGHT
TZOFFSETFROM:-0600
TZOFFSETTO:-0500
TZNAME:CDT
DTSTART:20250309T080000
END:DAYLIGHT
BEGIN:STANDARD
TZOFFSETFROM:-0500
TZOFFSETTO:-0600
TZNAME:CST
DTSTART:20251102T070000
END:STANDARD
BEGIN:DAYLIGHT
TZOFFSETFROM:-0600
TZOFFSETTO:-0500
TZNAME:CDT
DTSTART:20260308T080000
END:DAYLIGHT
BEGIN:STANDARD
TZOFFSETFROM:-0500
TZOFFSETTO:-0600
TZNAME:CST
DTSTART:20261101T070000
END:STANDARD
BEGIN:DAYLIGHT
TZOFFSETFROM:-0600
TZOFFSETTO:-0500
TZNAME:CDT
DTSTART:20270314T080000
END:DAYLIGHT
BEGIN:STANDARD
TZOFFSETFROM:-0500
TZOFFSETTO:-0600
TZNAME:CST
DTSTART:20271107T070000
END:STANDARD
END:VTIMEZONE
BEGIN:VEVENT
DTSTART;TZID=America/Chicago:20260902T190000
DTEND;TZID=America/Chicago:20260902T200000
DTSTAMP:20260421T134308
CREATED:20231130T165835Z
LAST-MODIFIED:20231211T194759Z
UID:10000419-1788375600-1788379200@bereanbiblechurch.com
SUMMARY:Wednesday Bible Study
DESCRIPTION:
URL:https://bereanbiblechurch.com/event/bible-study-2/2026-09-02/
LOCATION:Berean Bible Church\, 301 W. Grand Ave.\, Chippewa Falls\, WI\, 54729\, United States
GEO:44.9342363;-91.3972269
X-APPLE-STRUCTURED-LOCATION;VALUE=URI;X-ADDRESS=Berean Bible Church 301 W. Grand Ave. Chippewa Falls WI 54729 United States;X-APPLE-RADIUS=500;X-TITLE=301 W. Grand Ave.:geo:-91.3972269,44.9342363
END:VEVENT
BEGIN:VEVENT
DTSTART;TZID=America/Chicago:20260906T100000
DTEND;TZID=America/Chicago:20260906T105000
DTSTAMP:20260421T134308
CREATED:20231130T164943Z
LAST-MODIFIED:20231211T194849Z
UID:10000679-1788688800-1788691800@bereanbiblechurch.com
SUMMARY:Sunday Bible Hour
DESCRIPTION:Interactive Bible study for all ages
URL:https://bereanbiblechurch.com/event/bible-hour-3/2026-09-06/
LOCATION:Berean Bible Church\, 301 W. Grand Ave.\, Chippewa Falls\, WI\, 54729\, United States
GEO:44.9342363;-91.3972269
X-APPLE-STRUCTURED-LOCATION;VALUE=URI;X-ADDRESS=Berean Bible Church 301 W. Grand Ave. Chippewa Falls WI 54729 United States;X-APPLE-RADIUS=500;X-TITLE=301 W. Grand Ave.:geo:-91.3972269,44.9342363
END:VEVENT
BEGIN:VEVENT
DTSTART;TZID=America/Chicago:20260906T110000
DTEND;TZID=America/Chicago:20260906T120000
DTSTAMP:20260421T134308
CREATED:20231130T165512Z
LAST-MODIFIED:20231211T194556Z
UID:10000157-1788692400-1788696000@bereanbiblechurch.com
SUMMARY:Sunday Worship Service
DESCRIPTION:
URL:https://bereanbiblechurch.com/event/worship-service-5/2026-09-06/
LOCATION:Berean Bible Church\, 301 W. Grand Ave.\, Chippewa Falls\, WI\, 54729\, United States
GEO:44.9342363;-91.3972269
X-APPLE-STRUCTURED-LOCATION;VALUE=URI;X-ADDRESS=Berean Bible Church 301 W. Grand Ave. Chippewa Falls WI 54729 United States;X-APPLE-RADIUS=500;X-TITLE=301 W. Grand Ave.:geo:-91.3972269,44.9342363
END:VEVENT
BEGIN:VEVENT
DTSTART;TZID=America/Chicago:20260909T190000
DTEND;TZID=America/Chicago:20260909T200000
DTSTAMP:20260421T134308
CREATED:20231130T165835Z
LAST-MODIFIED:20231211T194759Z
UID:10000420-1788980400-1788984000@bereanbiblechurch.com
SUMMARY:Wednesday Bible Study
DESCRIPTION:
URL:https://bereanbiblechurch.com/event/bible-study-2/2026-09-09/
LOCATION:Berean Bible Church\, 301 W. Grand Ave.\, Chippewa Falls\, WI\, 54729\, United States
GEO:44.9342363;-91.3972269
X-APPLE-STRUCTURED-LOCATION;VALUE=URI;X-ADDRESS=Berean Bible Church 301 W. Grand Ave. Chippewa Falls WI 54729 United States;X-APPLE-RADIUS=500;X-TITLE=301 W. Grand Ave.:geo:-91.3972269,44.9342363
END:VEVENT
BEGIN:VEVENT
DTSTART;TZID=America/Chicago:20260913T100000
DTEND;TZID=America/Chicago:20260913T105000
DTSTAMP:20260421T134308
CREATED:20231130T164943Z
LAST-MODIFIED:20231211T194849Z
UID:10000680-1789293600-1789296600@bereanbiblechurch.com
SUMMARY:Sunday Bible Hour
DESCRIPTION:Interactive Bible study for all ages
URL:https://bereanbiblechurch.com/event/bible-hour-3/2026-09-13/
LOCATION:Berean Bible Church\, 301 W. Grand Ave.\, Chippewa Falls\, WI\, 54729\, United States
GEO:44.9342363;-91.3972269
X-APPLE-STRUCTURED-LOCATION;VALUE=URI;X-ADDRESS=Berean Bible Church 301 W. Grand Ave. Chippewa Falls WI 54729 United States;X-APPLE-RADIUS=500;X-TITLE=301 W. Grand Ave.:geo:-91.3972269,44.9342363
END:VEVENT
BEGIN:VEVENT
DTSTART;TZID=America/Chicago:20260913T110000
DTEND;TZID=America/Chicago:20260913T120000
DTSTAMP:20260421T134308
CREATED:20231130T165512Z
LAST-MODIFIED:20231211T194556Z
UID:10000158-1789297200-1789300800@bereanbiblechurch.com
SUMMARY:Sunday Worship Service
DESCRIPTION:
URL:https://bereanbiblechurch.com/event/worship-service-5/2026-09-13/
LOCATION:Berean Bible Church\, 301 W. Grand Ave.\, Chippewa Falls\, WI\, 54729\, United States
GEO:44.9342363;-91.3972269
X-APPLE-STRUCTURED-LOCATION;VALUE=URI;X-ADDRESS=Berean Bible Church 301 W. Grand Ave. Chippewa Falls WI 54729 United States;X-APPLE-RADIUS=500;X-TITLE=301 W. Grand Ave.:geo:-91.3972269,44.9342363
END:VEVENT
BEGIN:VEVENT
DTSTART;TZID=America/Chicago:20260916T190000
DTEND;TZID=America/Chicago:20260916T200000
DTSTAMP:20260421T134308
CREATED:20231130T165835Z
LAST-MODIFIED:20231211T194759Z
UID:10000421-1789585200-1789588800@bereanbiblechurch.com
SUMMARY:Wednesday Bible Study
DESCRIPTION:
URL:https://bereanbiblechurch.com/event/bible-study-2/2026-09-16/
LOCATION:Berean Bible Church\, 301 W. Grand Ave.\, Chippewa Falls\, WI\, 54729\, United States
GEO:44.9342363;-91.3972269
X-APPLE-STRUCTURED-LOCATION;VALUE=URI;X-ADDRESS=Berean Bible Church 301 W. Grand Ave. Chippewa Falls WI 54729 United States;X-APPLE-RADIUS=500;X-TITLE=301 W. Grand Ave.:geo:-91.3972269,44.9342363
END:VEVENT
BEGIN:VEVENT
DTSTART;TZID=America/Chicago:20260920T100000
DTEND;TZID=America/Chicago:20260920T105000
DTSTAMP:20260421T134308
CREATED:20231130T164943Z
LAST-MODIFIED:20231211T194849Z
UID:10000681-1789898400-1789901400@bereanbiblechurch.com
SUMMARY:Sunday Bible Hour
DESCRIPTION:Interactive Bible study for all ages
URL:https://bereanbiblechurch.com/event/bible-hour-3/2026-09-20/
LOCATION:Berean Bible Church\, 301 W. Grand Ave.\, Chippewa Falls\, WI\, 54729\, United States
GEO:44.9342363;-91.3972269
X-APPLE-STRUCTURED-LOCATION;VALUE=URI;X-ADDRESS=Berean Bible Church 301 W. Grand Ave. Chippewa Falls WI 54729 United States;X-APPLE-RADIUS=500;X-TITLE=301 W. Grand Ave.:geo:-91.3972269,44.9342363
END:VEVENT
BEGIN:VEVENT
DTSTART;TZID=America/Chicago:20260920T110000
DTEND;TZID=America/Chicago:20260920T120000
DTSTAMP:20260421T134308
CREATED:20231130T165512Z
LAST-MODIFIED:20231211T194556Z
UID:10000159-1789902000-1789905600@bereanbiblechurch.com
SUMMARY:Sunday Worship Service
DESCRIPTION:
URL:https://bereanbiblechurch.com/event/worship-service-5/2026-09-20/
LOCATION:Berean Bible Church\, 301 W. Grand Ave.\, Chippewa Falls\, WI\, 54729\, United States
GEO:44.9342363;-91.3972269
X-APPLE-STRUCTURED-LOCATION;VALUE=URI;X-ADDRESS=Berean Bible Church 301 W. Grand Ave. Chippewa Falls WI 54729 United States;X-APPLE-RADIUS=500;X-TITLE=301 W. Grand Ave.:geo:-91.3972269,44.9342363
END:VEVENT
BEGIN:VEVENT
DTSTART;TZID=America/Chicago:20260920T121000
DTEND;TZID=America/Chicago:20260920T133000
DTSTAMP:20260421T134308
CREATED:20231130T165629Z
LAST-MODIFIED:20231211T195256Z
UID:10000830-1789906200-1789911000@bereanbiblechurch.com
SUMMARY:Monthly Fellowship Dinner
DESCRIPTION:
URL:https://bereanbiblechurch.com/event/fellowship-dinner/2026-09-20/
LOCATION:Berean Bible Church\, 301 W. Grand Ave.\, Chippewa Falls\, WI\, 54729\, United States
GEO:44.9342363;-91.3972269
X-APPLE-STRUCTURED-LOCATION;VALUE=URI;X-ADDRESS=Berean Bible Church 301 W. Grand Ave. Chippewa Falls WI 54729 United States;X-APPLE-RADIUS=500;X-TITLE=301 W. Grand Ave.:geo:-91.3972269,44.9342363
END:VEVENT
BEGIN:VEVENT
DTSTART;TZID=America/Chicago:20260923T190000
DTEND;TZID=America/Chicago:20260923T200000
DTSTAMP:20260421T134308
CREATED:20231130T165835Z
LAST-MODIFIED:20231211T194759Z
UID:10000422-1790190000-1790193600@bereanbiblechurch.com
SUMMARY:Wednesday Bible Study
DESCRIPTION:
URL:https://bereanbiblechurch.com/event/bible-study-2/2026-09-23/
LOCATION:Berean Bible Church\, 301 W. Grand Ave.\, Chippewa Falls\, WI\, 54729\, United States
GEO:44.9342363;-91.3972269
X-APPLE-STRUCTURED-LOCATION;VALUE=URI;X-ADDRESS=Berean Bible Church 301 W. Grand Ave. Chippewa Falls WI 54729 United States;X-APPLE-RADIUS=500;X-TITLE=301 W. Grand Ave.:geo:-91.3972269,44.9342363
END:VEVENT
BEGIN:VEVENT
DTSTART;TZID=America/Chicago:20260927T100000
DTEND;TZID=America/Chicago:20260927T105000
DTSTAMP:20260421T134308
CREATED:20231130T164943Z
LAST-MODIFIED:20231211T194849Z
UID:10000682-1790503200-1790506200@bereanbiblechurch.com
SUMMARY:Sunday Bible Hour
DESCRIPTION:Interactive Bible study for all ages
URL:https://bereanbiblechurch.com/event/bible-hour-3/2026-09-27/
LOCATION:Berean Bible Church\, 301 W. Grand Ave.\, Chippewa Falls\, WI\, 54729\, United States
GEO:44.9342363;-91.3972269
X-APPLE-STRUCTURED-LOCATION;VALUE=URI;X-ADDRESS=Berean Bible Church 301 W. Grand Ave. Chippewa Falls WI 54729 United States;X-APPLE-RADIUS=500;X-TITLE=301 W. Grand Ave.:geo:-91.3972269,44.9342363
END:VEVENT
BEGIN:VEVENT
DTSTART;TZID=America/Chicago:20260927T110000
DTEND;TZID=America/Chicago:20260927T120000
DTSTAMP:20260421T134308
CREATED:20231130T165512Z
LAST-MODIFIED:20231211T194556Z
UID:10000160-1790506800-1790510400@bereanbiblechurch.com
SUMMARY:Sunday Worship Service
DESCRIPTION:
URL:https://bereanbiblechurch.com/event/worship-service-5/2026-09-27/
LOCATION:Berean Bible Church\, 301 W. Grand Ave.\, Chippewa Falls\, WI\, 54729\, United States
GEO:44.9342363;-91.3972269
X-APPLE-STRUCTURED-LOCATION;VALUE=URI;X-ADDRESS=Berean Bible Church 301 W. Grand Ave. Chippewa Falls WI 54729 United States;X-APPLE-RADIUS=500;X-TITLE=301 W. Grand Ave.:geo:-91.3972269,44.9342363
END:VEVENT
BEGIN:VEVENT
DTSTART;TZID=America/Chicago:20260930T190000
DTEND;TZID=America/Chicago:20260930T200000
DTSTAMP:20260421T134308
CREATED:20231130T165835Z
LAST-MODIFIED:20231211T194759Z
UID:10000423-1790794800-1790798400@bereanbiblechurch.com
SUMMARY:Wednesday Bible Study
DESCRIPTION:
URL:https://bereanbiblechurch.com/event/bible-study-2/2026-09-30/
LOCATION:Berean Bible Church\, 301 W. Grand Ave.\, Chippewa Falls\, WI\, 54729\, United States
GEO:44.9342363;-91.3972269
X-APPLE-STRUCTURED-LOCATION;VALUE=URI;X-ADDRESS=Berean Bible Church 301 W. Grand Ave. Chippewa Falls WI 54729 United States;X-APPLE-RADIUS=500;X-TITLE=301 W. Grand Ave.:geo:-91.3972269,44.9342363
END:VEVENT
END:VCALENDAR